BEGIN:VCALENDAR
VERSION:2.0
PRODID:-//Wirbelwind Eltern-Kind-Treff Gutau - ECPv6.15.20//NONSGML v1.0//EN
CALSCALE:GREGORIAN
METHOD:PUBLISH
X-ORIGINAL-URL:https://www.wirbelwind-gutau.at
X-WR-CALDESC:Veranstaltungen für Wirbelwind Eltern-Kind-Treff Gutau
REFRESH-INTERVAL;VALUE=DURATION:PT1H
X-Robots-Tag:noindex
X-PUBLISHED-TTL:PT1H
BEGIN:VTIMEZONE
TZID:Europe/Vienna
BEGIN:DAYLIGHT
TZOFFSETFROM:+0100
TZOFFSETTO:+0200
TZNAME:CEST
DTSTART:20230326T010000
END:DAYLIGHT
BEGIN:STANDARD
TZOFFSETFROM:+0200
TZOFFSETTO:+0100
TZNAME:CET
DTSTART:20231029T010000
END:STANDARD
BEGIN:DAYLIGHT
TZOFFSETFROM:+0100
TZOFFSETTO:+0200
TZNAME:CEST
DTSTART:20240331T010000
END:DAYLIGHT
BEGIN:STANDARD
TZOFFSETFROM:+0200
TZOFFSETTO:+0100
TZNAME:CET
DTSTART:20241027T010000
END:STANDARD
BEGIN:DAYLIGHT
TZOFFSETFROM:+0100
TZOFFSETTO:+0200
TZNAME:CEST
DTSTART:20250330T010000
END:DAYLIGHT
BEGIN:STANDARD
TZOFFSETFROM:+0200
TZOFFSETTO:+0100
TZNAME:CET
DTSTART:20251026T010000
END:STANDARD
END:VTIMEZONE
BEGIN:VEVENT
DTSTART;TZID=Europe/Vienna:20240427T103000
DTEND;TZID=Europe/Vienna:20240427T123000
DTSTAMP:20260423T134944
CREATED:20240217T191904Z
LAST-MODIFIED:20240404T103718Z
UID:2047-1714213800-1714221000@www.wirbelwind-gutau.at
SUMMARY:Kräuterwanderung mit Theresa
DESCRIPTION:Wir gehen gemeinsam durch die Natur und erkunden viele Wildpflanzen mit all unseren Sinnen. Du erhältst wertvolle Informationen über Wirkung\, Inhaltsstoffe und Verarbeitungsmöglichkeiten von Wildkräutern. \nWICHTIG: Pack dir bitte einen Notizblock und einen Stift ein\, damit du dir relevante Informationen notieren kannst!\nDie Veranstaltung findet bei mind. 5 Teilnehmer*innen statt. \nDatum & Uhrzeit: Samstag\, 27. April 2024 | 10:30 – ca. 12:30 Uhr\nLeitung: Theresa Bindreiter\, dipl. Kräuterpädagogin\nOrt: Treffpunkt vorm Wirbelwind\nKosten: Normalpreis: 30 € | Mitgliedspreis: 28 €
URL:https://www.wirbelwind-gutau.at/event/kraeuterwanderung-mit-theresa/
LOCATION:Eltern Kind Treff Wirbelwind Gutau\, St. Oswalderstraße 2\, Gutau\, Oberösterreich\, 4293\, Österreich
CATEGORIES:Frühlingsprogramm 2024,Kurs/Workshop
ATTACH;FMTTYPE=image/png:https://www.wirbelwind-gutau.at/wp-content/uploads/2024/02/Kraeuter-1-e1708461109833.png
ORGANIZER;CN="Eltern-Kind-Treff":MAILTO:wirbelwindgutau@hotmail.com
END:VEVENT
END:VCALENDAR