BEGIN:VCALENDAR
VERSION:2.0
PRODID:-//Wirbelwind Eltern-Kind-Treff Gutau - ECPv6.15.20//NONSGML v1.0//EN
CALSCALE:GREGORIAN
METHOD:PUBLISH
X-WR-CALNAME:Wirbelwind Eltern-Kind-Treff Gutau
X-ORIGINAL-URL:https://www.wirbelwind-gutau.at
X-WR-CALDESC:Veranstaltungen für Wirbelwind Eltern-Kind-Treff Gutau
REFRESH-INTERVAL;VALUE=DURATION:PT1H
X-Robots-Tag:noindex
X-PUBLISHED-TTL:PT1H
BEGIN:VTIMEZONE
TZID:Europe/Vienna
BEGIN:DAYLIGHT
TZOFFSETFROM:+0100
TZOFFSETTO:+0200
TZNAME:CEST
DTSTART:20250330T010000
END:DAYLIGHT
BEGIN:STANDARD
TZOFFSETFROM:+0200
TZOFFSETTO:+0100
TZNAME:CET
DTSTART:20251026T010000
END:STANDARD
BEGIN:DAYLIGHT
TZOFFSETFROM:+0100
TZOFFSETTO:+0200
TZNAME:CEST
DTSTART:20260329T010000
END:DAYLIGHT
BEGIN:STANDARD
TZOFFSETFROM:+0200
TZOFFSETTO:+0100
TZNAME:CET
DTSTART:20261025T010000
END:STANDARD
BEGIN:DAYLIGHT
TZOFFSETFROM:+0100
TZOFFSETTO:+0200
TZNAME:CEST
DTSTART:20270328T010000
END:DAYLIGHT
BEGIN:STANDARD
TZOFFSETFROM:+0200
TZOFFSETTO:+0100
TZNAME:CET
DTSTART:20271031T010000
END:STANDARD
END:VTIMEZONE
BEGIN:VEVENT
DTSTART;TZID=Europe/Vienna:20260520T150000
DTEND;TZID=Europe/Vienna:20260520T173000
DTSTAMP:20260421T125455
CREATED:20260218T144935Z
LAST-MODIFIED:20260408T171129Z
UID:3863-1779289200-1779298200@www.wirbelwind-gutau.at
SUMMARY:Familien-Ponyerlebnisnachmittag\, 20.05.2026
DESCRIPTION:Ein Nachmittag voller Natur\, Tiere und glücklicher Kinder!\nGemeinsam tauchen wir in die Welt der Ponys ein – vom Stall bis zum Reitplatz.\nDie Kinder dürfen die Ponys selbst aus dem Stall holen\, sie putzen\, satteln und natürlich auch reiten. Dabei lernen sie spielerisch den respektvollen Umgang mit den Tieren.\nWährend die Kinder reiten\, können die Eltern entspannen\, zuschauen\, picknicken oder den Spielplatz mit Geschwistern nutzen. Ein echtes Erlebnis für die ganze Familie! \nDas erwartet euch: \n\nPonys gemeinsam vorbereiten (holen\, putzen\, satteln)\nReiten auf dem Reitplatz\nLustige Geschicklichkeitsübungen mit und ohne Pony\nPicknickmöglichkeit & Spielplatz\nOptionales Lagerfeuer\nAm Ende: Ponys füttern & versorgen\n\nFür max. 10 Kinder von 3-6 Jahren mit Begleitung. \nDatum & Uhrzeit: Mittwoch\, 20.5.2026 | 15:00-17:30 Uhr\nLeitung: Verena Montgomery\nOrt: Ponyhof Daneder\nKosten: 13 € pro Kind (für 2. Geschwisterkind 8 €)
URL:https://www.wirbelwind-gutau.at/event/familien-ponyerlebnisnachmittag/
LOCATION:Ponyhof Daneder\, Hundsdorf 13\, Gutau\, Oberösterreich\, 4293\, Austria
CATEGORIES:Erlebnisnachmittag,Frühlingsprogramm 2026
ATTACH;FMTTYPE=image/png:https://www.wirbelwind-gutau.at/wp-content/uploads/2026/02/4-e1771426144659.png
ORGANIZER;CN="Eltern-Kind-Treff":MAILTO:wirbelwindgutau@hotmail.com
END:VEVENT
BEGIN:VEVENT
DTSTART;TZID=Europe/Vienna:20260521T150000
DTEND;TZID=Europe/Vienna:20260521T173000
DTSTAMP:20260421T125455
CREATED:20260408T171432Z
LAST-MODIFIED:20260408T171432Z
UID:4115-1779375600-1779384600@www.wirbelwind-gutau.at
SUMMARY:Familien-Ponyerlebnisnachmittag\, 21.05.2026
DESCRIPTION:Ein Nachmittag voller Natur\, Tiere und glücklicher Kinder!\nGemeinsam tauchen wir in die Welt der Ponys ein – vom Stall bis zum Reitplatz.\nDie Kinder dürfen die Ponys selbst aus dem Stall holen\, sie putzen\, satteln und natürlich auch reiten. Dabei lernen sie spielerisch den respektvollen Umgang mit den Tieren.\nWährend die Kinder reiten\, können die Eltern entspannen\, zuschauen\, picknicken oder den Spielplatz mit Geschwistern nutzen. Ein echtes Erlebnis für die ganze Familie! \nDas erwartet euch: \n\nPonys gemeinsam vorbereiten (holen\, putzen\, satteln)\nReiten auf dem Reitplatz\nLustige Geschicklichkeitsübungen mit und ohne Pony\nPicknickmöglichkeit & Spielplatz\nOptionales Lagerfeuer\nAm Ende: Ponys füttern & versorgen\n\nFür max. 10 Kinder von 3-6 Jahren mit Begleitung. \nDatum & Uhrzeit: Donnerstag\, 21.5.2026 | 15:00-17:30 Uhr\nLeitung: Verena Montgomery\nOrt: Ponyhof Daneder\nKosten: 13 € pro Kind (für 2. Geschwisterkind 8 €)
URL:https://www.wirbelwind-gutau.at/event/familien-ponyerlebnisnachmittag-21-05-2026/
LOCATION:Ponyhof Daneder\, Hundsdorf 13\, Gutau\, Oberösterreich\, 4293\, Austria
CATEGORIES:Erlebnisnachmittag,Frühlingsprogramm 2026
ATTACH;FMTTYPE=image/png:https://www.wirbelwind-gutau.at/wp-content/uploads/2026/02/4-e1771426144659.png
ORGANIZER;CN="Eltern-Kind-Treff":MAILTO:wirbelwindgutau@hotmail.com
END:VEVENT
BEGIN:VEVENT
DTSTART;TZID=Europe/Vienna:20260521T160000
DTEND;TZID=Europe/Vienna:20260521T170000
DTSTAMP:20260421T125455
CREATED:20260218T131330Z
LAST-MODIFIED:20260218T150952Z
UID:3819-1779379200-1779382800@www.wirbelwind-gutau.at
SUMMARY:Wir entdecken Essen mit allen Sinnen - Workshop für Kindergartenkinder
DESCRIPTION:In diesem Workshop entdecken Kinder gemeinsam mit einer Begleitperson Essen mit allen Sinnen. Durch Anschauen\, Angreifen und Mitmachen lernen sie verschiedene Lebensmittel kennen – ohne Druck und ohne Vorgaben. Der Fokus liegt auf Neugier\, Freude am Tun und einem entspannten Zugang zum Thema Essen. \nWorkshop für Kindergartenkinder mit Begleitung (max 8 Kinder) \n\nKursleiterin: Teresa Klammer\, dipl. Ernährungstrainerin.\nTermin: 21. Mai 2026\nUhrzeit: 16:00–17:00 Uhr\nOrt: Mediathek Gutau\nKosten: € 15 pro Kind\n\nZur Anmeldung
URL:https://www.wirbelwind-gutau.at/event/wir-entdecken-essen-mit-allen-sinnen-workshop-fuer-kindergartenkinder/
LOCATION:Mediathek Gutau\, St. Leonhardstraße 1\, Gutau\, Oberösterreich\, 4293\, Austria
CATEGORIES:Veranstaltung der Mediathek Gutau
ATTACH;FMTTYPE=image/png:https://www.wirbelwind-gutau.at/wp-content/uploads/2026/02/2-1-e1771427344116.png
END:VEVENT
BEGIN:VEVENT
DTSTART;TZID=Europe/Vienna:20260527T150000
DTEND;TZID=Europe/Vienna:20260527T170000
DTSTAMP:20260421T125455
CREATED:20260218T142812Z
LAST-MODIFIED:20260317T161154Z
UID:3844-1779894000-1779901200@www.wirbelwind-gutau.at
SUMMARY:Nachmittag am Bauernhof „Frohnlehner“ | Mittwoch\, 27.5.2026
DESCRIPTION:Schnuppere hinein in das Leben am Bauernhof. An diesem Nachmittag bei Bauer Joe erwartet dich Traktor fahren\, Kühe und Hühner füttern\, Hofspiele und vieles mehr. Zum Abschluss machen wir ein Lagerfeuer und grillen Würstl. Die Kinder können gerne hartes Altbrot zum Füttern mitnehmen. Bitte eventuell Matschgewand und Gummistiefel mitnehmen! \nFür max. 10 Kinder in jedem Alter mit Begleitung. \nDatum & Uhrzeit: Mittwoch\, 27. Mai 2026 | 15 Uhr\nOrt: Bauernhof „Frohnlehner“ bei Joe Wenigwieser\nKosten: Normalpreis: 5 € | Mitgliedspreis: 4 €
URL:https://www.wirbelwind-gutau.at/event/nachmittag-am-bauernhof-frohnlehner-mittwoch-27-5-2026/
LOCATION:Bauernhof “Frohnlehner”\, Lehen 32\, Gutau\, Oberösterreich\, 4293\, Österreich
CATEGORIES:Erlebnisnachmittag,Frühlingsprogramm 2026
ATTACH;FMTTYPE=image/png:https://www.wirbelwind-gutau.at/wp-content/uploads/2024/02/Bauernhof-e1743407425334.png
END:VEVENT
BEGIN:VEVENT
DTSTART;TZID=Europe/Vienna:20260528T150000
DTEND;TZID=Europe/Vienna:20260528T170000
DTSTAMP:20260421T125455
CREATED:20260218T142947Z
LAST-MODIFIED:20260317T161204Z
UID:3847-1779980400-1779987600@www.wirbelwind-gutau.at
SUMMARY:Nachmittag am Bauernhof „Frohnlehner“ | Donnerstag\, 28. Mai 2026
DESCRIPTION:Schnuppere hinein in das Leben am Bauernhof. An diesem Nachmittag bei Bauer Joe erwartet dich Traktor fahren\, Kühe und Hühner füttern\, Hofspiele und vieles mehr. Zum Abschluss machen wir ein Lagerfeuer und grillen Würstl. Die Kinder können gerne hartes Altbrot zum Füttern mitnehmen. Bitte eventuell Matschgewand und Gummistiefel mitnehmen! \nFür max. 10 Kinder in jedem Alter mit Begleitung. \nDatum & Uhrzeit: Donnerstag\, 28. Mai 2026 | 15 Uhr\nOrt: Bauernhof „Frohnlehner“ bei Joe Wenigwieser\nKosten: Normalpreis: 5 € | Mitgliedspreis: 4 €
URL:https://www.wirbelwind-gutau.at/event/nachmittag-am-bauernhof-frohnlehner-donnerstag-28-mai-2026/
LOCATION:Bauernhof “Frohnlehner”\, Lehen 32\, Gutau\, Oberösterreich\, 4293\, Österreich
CATEGORIES:Erlebnisnachmittag,Frühlingsprogramm 2026
ATTACH;FMTTYPE=image/png:https://www.wirbelwind-gutau.at/wp-content/uploads/2024/02/Bauernhof-e1743407425334.png
END:VEVENT
END:VCALENDAR