BEGIN:VCALENDAR
VERSION:2.0
PRODID:-//Wirbelwind Eltern-Kind-Treff Gutau - ECPv6.15.20//NONSGML v1.0//EN
CALSCALE:GREGORIAN
METHOD:PUBLISH
X-WR-CALNAME:Wirbelwind Eltern-Kind-Treff Gutau
X-ORIGINAL-URL:https://www.wirbelwind-gutau.at
X-WR-CALDESC:Veranstaltungen für Wirbelwind Eltern-Kind-Treff Gutau
REFRESH-INTERVAL;VALUE=DURATION:PT1H
X-Robots-Tag:noindex
X-PUBLISHED-TTL:PT1H
BEGIN:VTIMEZONE
TZID:Europe/Vienna
BEGIN:DAYLIGHT
TZOFFSETFROM:+0100
TZOFFSETTO:+0200
TZNAME:CEST
DTSTART:20240331T010000
END:DAYLIGHT
BEGIN:STANDARD
TZOFFSETFROM:+0200
TZOFFSETTO:+0100
TZNAME:CET
DTSTART:20241027T010000
END:STANDARD
BEGIN:DAYLIGHT
TZOFFSETFROM:+0100
TZOFFSETTO:+0200
TZNAME:CEST
DTSTART:20250330T010000
END:DAYLIGHT
BEGIN:STANDARD
TZOFFSETFROM:+0200
TZOFFSETTO:+0100
TZNAME:CET
DTSTART:20251026T010000
END:STANDARD
BEGIN:DAYLIGHT
TZOFFSETFROM:+0100
TZOFFSETTO:+0200
TZNAME:CEST
DTSTART:20260329T010000
END:DAYLIGHT
BEGIN:STANDARD
TZOFFSETFROM:+0200
TZOFFSETTO:+0100
TZNAME:CET
DTSTART:20261025T010000
END:STANDARD
END:VTIMEZONE
BEGIN:VEVENT
DTSTART;TZID=Europe/Vienna:20251009T160000
DTEND;TZID=Europe/Vienna:20251009T164500
DTSTAMP:20260423T194450
CREATED:20250721T065948Z
LAST-MODIFIED:20250825T121904Z
UID:3293-1760025600-1760028300@www.wirbelwind-gutau.at
SUMMARY:Zwergerlturnen; Kurs 1: 16 Uhr
DESCRIPTION:Kindern macht es Freude sich zu bewegen\, rennen\, hüpfen\, schaukeln\, balancieren – beim Zwergerlturnen turnen Kinder gemeinsam mit ihren Eltern. Mithilfe von Bewegungsliedern macht das Turnen gleich noch mehr Spaß. \nFür max. 10 Kinder von 1\,5 bis 3\,5 Jahren mit Begleitung. (8 Treffen) \nDatum & Uhrzeit: ab Donnerstag\, 9. Oktober 2025\, Kurs 1: 16:00 Uhr\nLeitung: Sophie Greifeneder \nOrt: Turnsaal Kindergarten Gutau\nKosten: Normalpreis: 38 € | Mitgliedspreis: 35 € | Elternbildungsgutscheine können eingelöst werden
URL:https://www.wirbelwind-gutau.at/event/zwergerlturnen-kurs-1-16-uhr/
LOCATION:Turnsaal Kindergarten Gutau\, St. Oswalderstraße 2\, Gutau\, Oberösterreich\, 4293\, Österreich
CATEGORIES:Bewegung und Sport,Herbstprogramm 2025
ATTACH;FMTTYPE=image/png:https://www.wirbelwind-gutau.at/wp-content/uploads/2023/04/png_20221217_212211_0000-e1699040259342.png
ORGANIZER;CN="Eltern-Kind-Treff":MAILTO:wirbelwindgutau@hotmail.com
END:VEVENT
BEGIN:VEVENT
DTSTART;TZID=Europe/Vienna:20251009T170000
DTEND;TZID=Europe/Vienna:20251009T170000
DTSTAMP:20260423T194450
CREATED:20250721T070227Z
LAST-MODIFIED:20251001T152757Z
UID:3298-1760029200-1760029200@www.wirbelwind-gutau.at
SUMMARY:Zwergerlturnen; Kurs 2: 17 Uhr - ABGESAGT
DESCRIPTION:Kindern macht es Freude sich zu bewegen\, rennen\, hüpfen\, schaukeln\, balancieren – beim Zwergerlturnen turnen Kinder gemeinsam mit ihren Eltern. Mithilfe von Bewegungsliedern macht das Turnen gleich noch mehr Spaß. \nFür max. 10 Kinder von 1\,5 bis 3\,5 Jahren mit Begleitung. (8 Treffen) \nDatum & Uhrzeit: ab Donnerstag\, 9. Oktober 2025\, Kurs 2: 17:00 Uhr\nLeitung: Sophie Greifeneder \nOrt: Turnsaal Kindergarten Gutau\nKosten: Normalpreis: 38 € | Mitgliedspreis: 35 € | Elternbildungsgutscheine können eingelöst werden
URL:https://www.wirbelwind-gutau.at/event/zwergerlturnen-kurs-2-17-uhr/
LOCATION:Turnsaal Kindergarten Gutau\, St. Oswalderstraße 2\, Gutau\, Oberösterreich\, 4293\, Österreich
CATEGORIES:Bewegung und Sport,Herbstprogramm 2025
ATTACH;FMTTYPE=image/png:https://www.wirbelwind-gutau.at/wp-content/uploads/2023/04/png_20221217_212211_0000-e1699040259342.png
ORGANIZER;CN="Eltern-Kind-Treff":MAILTO:wirbelwindgutau@hotmail.com
END:VEVENT
BEGIN:VEVENT
DTSTART;TZID=Europe/Vienna:20251015T190000
DTEND;TZID=Europe/Vienna:20251015T210000
DTSTAMP:20260423T194450
CREATED:20250721T074014Z
LAST-MODIFIED:20250825T121956Z
UID:3339-1760554800-1760562000@www.wirbelwind-gutau.at
SUMMARY:Workshop für Eltern “Haare flechten“
DESCRIPTION:In diesem Workshop lernen Interessierte Schritt für Schritt\, wie sie ganz einfach schöne Flechtfrisuren für ihre Kinder (oder sich selbst) zaubern können. Ob klassischer Zopf\, französischer Zopf oder kreative Varianten – mit einfachen Techniken\, Tipps und ein wenig Übung gelingt das Flechten im Alltag oder für besondere Anlässe. Keine Vorkenntnisse nötig – nur Spaß und gute Laune! \nDatum & Uhrzeit: Mittwoch\, 15. Oktober  2025 | 19:00 Uhr\nLeitung: Magdalena Mayer\nOrt: EKT Wirbelwind Gutau\nKosten: Normalpreis: 5 € | Mitgliedspreis: 4 €
URL:https://www.wirbelwind-gutau.at/event/workshop-fuer-eltern-haare-flechten/
LOCATION:Eltern Kind Treff Wirbelwind Gutau\, St. Oswalderstraße 2\, Gutau\, Oberösterreich\, 4293\, Österreich
CATEGORIES:Herbstprogramm 2025,Kurs/Workshop
ATTACH;FMTTYPE=image/png:https://www.wirbelwind-gutau.at/wp-content/uploads/2025/07/Programm-Bilder-12-e1753083605792.png
ORGANIZER;CN="Eltern-Kind-Treff":MAILTO:wirbelwindgutau@hotmail.com
END:VEVENT
BEGIN:VEVENT
DTSTART;TZID=Europe/Vienna:20251017T180000
DTEND;TZID=Europe/Vienna:20251017T233000
DTSTAMP:20260423T194450
CREATED:20250721T072607Z
LAST-MODIFIED:20250721T072607Z
UID:3336-1760724000-1760743800@www.wirbelwind-gutau.at
SUMMARY:Shake it\, Mama
DESCRIPTION:Tanzen wie früher – nur früher! Für alle Mamas\, die wieder einmal feiern gehen und am nächsten Tag trotzdem fit sein möchten (oder auch nicht)! 🙂 Die etwas andere Me-Time im „Bunker“!  \nDatum & Uhrzeit: Freitag\, 17.10.2025 | 18:00 Uhr – Open End\nOrt: Gasthaus Oyrer\, Spiegelbar\nKosten: Eintritt frei
URL:https://www.wirbelwind-gutau.at/event/shake-it-mama/
LOCATION:Gasthaus Oyrer\, Marktplatz 7\, Gutau\, Oberösterreich\, 4293\, Österreich
CATEGORIES:Herbstprogramm 2025
ATTACH;FMTTYPE=image/jpeg:https://www.wirbelwind-gutau.at/wp-content/uploads/2024/07/WhatsApp-Image-2024-07-17-at-00.24.16-e1721168686230.jpeg
ORGANIZER;CN="Eltern-Kind-Treff":MAILTO:wirbelwindgutau@hotmail.com
END:VEVENT
BEGIN:VEVENT
DTSTART;TZID=Europe/Vienna:20251018T150000
DTEND;TZID=Europe/Vienna:20251018T170000
DTSTAMP:20260423T194450
CREATED:20250721T071611Z
LAST-MODIFIED:20250825T122022Z
UID:3317-1760799600-1760806800@www.wirbelwind-gutau.at
SUMMARY:Jägernachmittag
DESCRIPTION:Wir werden in die Natur tauchen\, die Waldtiere näher kennenlernen und den Wald durchsuchen. Vielleicht finden wir auch einen Schatz. \nFür Kinder ab 2 Jahren\, mit Begleitung. \nDatum & Uhrzeit: Samstag\, 18. Oktober 2025 | 15:00 Uhr\nTreffpunkt: wird rechtzeitig bekannt gegeben\nLeitung: Lukas Priemetshofer\, Caroline Brandl\, Dominik Leitner\nKosten: Normalpreis: 5 € | Mitgliedspreis: 4 €
URL:https://www.wirbelwind-gutau.at/event/jaegernachmittag-2/
LOCATION:Oberösterreich
CATEGORIES:Erlebnisnachmittag,Herbstprogramm 2025
ATTACH;FMTTYPE=image/jpeg:https://www.wirbelwind-gutau.at/wp-content/uploads/2024/07/WhatsApp-Image-2024-07-16-at-23.57.16-e1721167114370.jpeg
ORGANIZER;CN="Eltern-Kind-Treff":MAILTO:wirbelwindgutau@hotmail.com
END:VEVENT
END:VCALENDAR