BEGIN:VCALENDAR
VERSION:2.0
PRODID:-//Wirbelwind Eltern-Kind-Treff Gutau - ECPv6.15.20//NONSGML v1.0//EN
CALSCALE:GREGORIAN
METHOD:PUBLISH
X-WR-CALNAME:Wirbelwind Eltern-Kind-Treff Gutau
X-ORIGINAL-URL:https://www.wirbelwind-gutau.at
X-WR-CALDESC:Veranstaltungen für Wirbelwind Eltern-Kind-Treff Gutau
REFRESH-INTERVAL;VALUE=DURATION:PT1H
X-Robots-Tag:noindex
X-PUBLISHED-TTL:PT1H
BEGIN:VTIMEZONE
TZID:Europe/Vienna
BEGIN:DAYLIGHT
TZOFFSETFROM:+0100
TZOFFSETTO:+0200
TZNAME:CEST
DTSTART:20240331T010000
END:DAYLIGHT
BEGIN:STANDARD
TZOFFSETFROM:+0200
TZOFFSETTO:+0100
TZNAME:CET
DTSTART:20241027T010000
END:STANDARD
BEGIN:DAYLIGHT
TZOFFSETFROM:+0100
TZOFFSETTO:+0200
TZNAME:CEST
DTSTART:20250330T010000
END:DAYLIGHT
BEGIN:STANDARD
TZOFFSETFROM:+0200
TZOFFSETTO:+0100
TZNAME:CET
DTSTART:20251026T010000
END:STANDARD
BEGIN:DAYLIGHT
TZOFFSETFROM:+0100
TZOFFSETTO:+0200
TZNAME:CEST
DTSTART:20260329T010000
END:DAYLIGHT
BEGIN:STANDARD
TZOFFSETFROM:+0200
TZOFFSETTO:+0100
TZNAME:CET
DTSTART:20261025T010000
END:STANDARD
END:VTIMEZONE
BEGIN:VEVENT
DTSTART;TZID=Europe/Vienna:20250505T190000
DTEND;TZID=Europe/Vienna:20250505T210000
DTSTAMP:20260424T020055
CREATED:20250307T182746Z
LAST-MODIFIED:20250502T205937Z
UID:3094-1746471600-1746478800@www.wirbelwind-gutau.at
SUMMARY:Infoabend “Aufklärung von Anfang an” - Montag\, 5. Mai 2025
DESCRIPTION:Über Sexualität zu sprechen\, fällt vielen Menschen sehr schwer. Unseren Kindern zuliebe sollten wir lernen\, wie man mit kindlicher Sexualität am besten umgeht und welche Antworten man den Kindern auf ihre Fragen geben kann. Der Workshop beinhaltet Themen wie Gefühle\, Doktorspiele\, Anatomie\, uvm. und soll aufzeigen\, wie leicht Sexualität sein kann\, wenn man über seinen Schatten springt. Kinder profitieren von dem Vertrauen und Wissen\, dass sie von ihren Eltern vermittelt bekommen\, auch im Bezug auf Missbrauchssituationen. \nTeilnehmerzahl: maximal 15 Personen pro Termin \nDatum & Uhrzeit: 1. Termin: Montag\, 5. Mai 2025 | 19 Uhr\nLeitung: Julia Kaindlstorfer\, Dipl. Sozialpädagogin\, dipl. Sexualpädagogin\, dipl. Familienhelferin \nOrt: EKT Wirbelwind\nKosten: Normalpreis: 17 € | Mitgliedspreis: 15 €
URL:https://www.wirbelwind-gutau.at/event/infoabend-aufklaerung-von-anfang-an-1-termin-montag-5-mai-2025/
LOCATION:Eltern Kind Treff Wirbelwind Gutau\, St. Oswalderstraße 2\, Gutau\, Oberösterreich\, 4293\, Österreich
CATEGORIES:Frühlingsprogramm 2025,Kurs/Workshop
ATTACH;FMTTYPE=image/png:https://www.wirbelwind-gutau.at/wp-content/uploads/2025/03/Programm-Bilder-10-e1741587785849.png
ORGANIZER;CN="Eltern-Kind-Treff":MAILTO:wirbelwindgutau@hotmail.com
END:VEVENT
BEGIN:VEVENT
DTSTART;TZID=Europe/Vienna:20250514T150000
DTEND;TZID=Europe/Vienna:20250514T180000
DTSTAMP:20260424T020056
CREATED:20250307T182258Z
LAST-MODIFIED:20250323T143931Z
UID:3088-1747234800-1747245600@www.wirbelwind-gutau.at
SUMMARY:Waldschatzsuche
DESCRIPTION:Wir erkunden gemeinsam den Wald und begeben uns dabei auf die Suche nach verschiedenen Naturmaterialien. Mit den Naturschätzen bauen wir im Anschluss Kunstwerke und es bleibt auch noch Zeit zum gemeinsamen Spielen im Wald. \nFür max. 20 Kinder in jedem Alter mit Begleitung.  \nDatum & Uhrzeit: Mittwoch\, 14. Mai 2025 | 15 Uhr\nLeitung: Caroline Brandl\, Regina Gutenbrunner\, Anna Lesterl & Lisa Priemetshofer\nOrt: Hainberg\nKosten: Normalpreis: 5 € | Mitgliedspreis: 4 €
URL:https://www.wirbelwind-gutau.at/event/waldschatzsuche/
LOCATION:Hainberg\, Hainberg\, Gutau\, Oberösterreich\, 4293\, Austria
CATEGORIES:Erlebnisnachmittag,Frühlingsprogramm 2025
ATTACH;FMTTYPE=image/png:https://www.wirbelwind-gutau.at/wp-content/uploads/2025/03/Programm-Bilder-9-e1741371763160.png
ORGANIZER;CN="Eltern-Kind-Treff":MAILTO:wirbelwindgutau@hotmail.com
END:VEVENT
BEGIN:VEVENT
DTSTART;TZID=Europe/Vienna:20250521T150000
DTEND;TZID=Europe/Vienna:20250521T180000
DTSTAMP:20260424T020056
CREATED:20250307T175914Z
LAST-MODIFIED:20250323T143924Z
UID:3073-1747839600-1747850400@www.wirbelwind-gutau.at
SUMMARY:Nachmittag am Bauernhof „Frohnlehner“ - 1. Termin: Mittwoch\, 21.5.2025
DESCRIPTION:Schnuppere hinein in das Leben am Bauernhof. An diesem Nachmittag bei Bauer Joe erwartet dich Traktor fahren\, Kühe und Hühner füttern\, Hofspiele und vieles mehr. Zum Abschluss machen wir ein Lagerfeuer und grillen Würstl. Die Kinder können gerne hartes Altbrot zum Füttern mitnehmen. Bitte eventuell Matschgewand und Gummistiefel mitnehmen! \nFür max. 10 Kinder in jedem Alter mit Begleitung. \nDatum & Uhrzeit: Mittwoch\, 21. Mai 2025 | 15 Uhr\nOrt: Bauernhof „Frohnlehner“ bei Joe Wenigwieser\nKosten: Normalpreis: 5 € | Mitgliedspreis: 4 €
URL:https://www.wirbelwind-gutau.at/event/nachmittag-am-bauernhof-frohnlehner-1-termin-mittwoch-21-5-2025/
LOCATION:Bauernhof „Frohnlehner“\, Lehen 32\, Gutau\, Oberösterreich\, 4293\, Österreich
CATEGORIES:Erlebnisnachmittag,Frühlingsprogramm 2025
ATTACH;FMTTYPE=image/png:https://www.wirbelwind-gutau.at/wp-content/uploads/2024/02/Bauernhof-e1743407425334.png
END:VEVENT
BEGIN:VEVENT
DTSTART;TZID=Europe/Vienna:20250522T150000
DTEND;TZID=Europe/Vienna:20250522T180000
DTSTAMP:20260424T020056
CREATED:20250307T181815Z
LAST-MODIFIED:20250323T143857Z
UID:3083-1747926000-1747936800@www.wirbelwind-gutau.at
SUMMARY:Nachmittag am Bauernhof „Frohnlehner“ - 2. Termin: Donnerstag\, 22.5.2025
DESCRIPTION:Schnuppere hinein in das Leben am Bauernhof. An diesem Nachmittag bei Bauer Joe erwartet dich Traktor fahren\, Kühe und Hühner füttern\, Hofspiele und vieles mehr. Zum Abschluss machen wir ein Lagerfeuer und grillen Würstl. Die Kinder können gerne hartes Altbrot zum Füttern mitnehmen. Bitte eventuell Matschgewand und Gummistiefel mitnehmen! \nFür max. 10 Kinder in jedem Alter mit Begleitung. \nDatum & Uhrzeit: Donnerstag\, 22. Mai 2025 | 15 Uhr\nOrt: Bauernhof „Frohnlehner“ bei Joe Wenigwieser\nKosten: Normalpreis: 5 € | Mitgliedspreis: 4 €
URL:https://www.wirbelwind-gutau.at/event/nachmittag-am-bauernhof-frohnlehner-2-termin-donnerstag-22-5-2025/
LOCATION:Bauernhof „Frohnlehner“\, Lehen 32\, Gutau\, Oberösterreich\, 4293\, Österreich
CATEGORIES:Erlebnisnachmittag,Frühlingsprogramm 2025
ATTACH;FMTTYPE=image/png:https://www.wirbelwind-gutau.at/wp-content/uploads/2024/02/Bauernhof-e1743407425334.png
END:VEVENT
END:VCALENDAR