BEGIN:VCALENDAR
VERSION:2.0
PRODID:-//Wirbelwind Eltern-Kind-Treff Gutau - ECPv6.15.20//NONSGML v1.0//EN
CALSCALE:GREGORIAN
METHOD:PUBLISH
X-WR-CALNAME:Wirbelwind Eltern-Kind-Treff Gutau
X-ORIGINAL-URL:https://www.wirbelwind-gutau.at
X-WR-CALDESC:Veranstaltungen für Wirbelwind Eltern-Kind-Treff Gutau
REFRESH-INTERVAL;VALUE=DURATION:PT1H
X-Robots-Tag:noindex
X-PUBLISHED-TTL:PT1H
BEGIN:VTIMEZONE
TZID:Europe/Vienna
BEGIN:DAYLIGHT
TZOFFSETFROM:+0100
TZOFFSETTO:+0200
TZNAME:CEST
DTSTART:20240331T010000
END:DAYLIGHT
BEGIN:STANDARD
TZOFFSETFROM:+0200
TZOFFSETTO:+0100
TZNAME:CET
DTSTART:20241027T010000
END:STANDARD
BEGIN:DAYLIGHT
TZOFFSETFROM:+0100
TZOFFSETTO:+0200
TZNAME:CEST
DTSTART:20250330T010000
END:DAYLIGHT
BEGIN:STANDARD
TZOFFSETFROM:+0200
TZOFFSETTO:+0100
TZNAME:CET
DTSTART:20251026T010000
END:STANDARD
BEGIN:DAYLIGHT
TZOFFSETFROM:+0100
TZOFFSETTO:+0200
TZNAME:CEST
DTSTART:20260329T010000
END:DAYLIGHT
BEGIN:STANDARD
TZOFFSETFROM:+0200
TZOFFSETTO:+0100
TZNAME:CET
DTSTART:20261025T010000
END:STANDARD
END:VTIMEZONE
BEGIN:VEVENT
DTSTART;TZID=Europe/Vienna:20250413T143000
DTEND;TZID=Europe/Vienna:20250413T153000
DTSTAMP:20260424T030955
CREATED:20241207T222748Z
LAST-MODIFIED:20250323T142456Z
UID:2815-1744554600-1744558200@www.wirbelwind-gutau.at
SUMMARY:Kasperltheater “Kasperl und Paulinchen die junge Henne“
DESCRIPTION:Tri tra trallala\, tri tra trallala\, der Kasperl der ist wieder da… und kommt zu uns nach Gutau! \nDas “Schneiderlino Kasperltheater” ist ein mitreißendes und lustiges Programm für die ganze Familie mit Kindern in jedem Alter. Die kleinen Zuschauer erleben spannende Abenteuer mit dem Kasperl\, der sich zusammen mit seinen Freunden gegen viele lustige Hindernisse stellt. Für jede Menge Spaß und auch das leibliche Wohl ist gesorgt! \nDie Teilnahme für Kinder ist nur in Begleitung von Erwachsenen möglich. \nIn Kooperation mit dem Kulturausschuss Marktgemeinde Gutau. \nDatum & Uhrzeit: Sonntag\, 13. April 2025 | 14:30-15:30 Uhr | Einlass ab 14 Uhr\nNeuer Ort: KuBus Gutau\nKosten: 10 € pro Familie (vor Ort wird kassiert) | Keine Anmeldung erforderlich!!! \nFoto: Schneiderlino. Bildquelle: Schneiderlino Kasperltheater
URL:https://www.wirbelwind-gutau.at/event/kasperltheater-kasperl-und-paulinchen-die-junge-henne/
LOCATION:KuBus Gutau\, Pregartenerstraße 4\, Gutau\, Oberösterreich\, 4293\, Österreich
CATEGORIES:Erlebnisnachmittag,Winterprogramm 2025
ATTACH;FMTTYPE=image/png:https://www.wirbelwind-gutau.at/wp-content/uploads/2024/12/Programm-Bilder-5-e1733611011570.png
ORGANIZER;CN="Eltern-Kind-Treff":MAILTO:wirbelwindgutau@hotmail.com
END:VEVENT
BEGIN:VEVENT
DTSTART;TZID=Europe/Vienna:20250424T090000
DTEND;TZID=Europe/Vienna:20250424T103000
DTSTAMP:20260424T030955
CREATED:20250307T175026Z
LAST-MODIFIED:20250323T144031Z
UID:3063-1745485200-1745490600@www.wirbelwind-gutau.at
SUMMARY:Babyspielgruppe am Donnerstag
DESCRIPTION:Unsere Babyspielgruppe ist der perfekte Ort für Eltern mit Kindern zwischen 0 und 1 Jahr. Hier können wir gemeinsam Schaukel- und Wiegelieder singen\, Fingerspiele spielen und Spaß haben. Dabei werden nicht nur die Kleinen spielerisch gefördert\, sondern auch die Bindung zwischen Eltern und Kind gestärkt. In gemütlicher Atmosphäre können wir uns austauschen und neue Kontakte knüpfen. Die Eltern können in netter Runde einen Kaffee trinken und sich über ihre Erfahrungen austauschen. \nFür max. 8 Kinder von 0 bis 1 Jahr mit Begleitung. (8 Treffen) \nDatum & Uhrzeit: ab Donnerstag\, 24. April 2025 | 9:00-10:30 Uhr\nLeitung: Karin Mühlbachler (Spielgruppenleiterin)\nOrt: EKT Wirbelwind Gutau\nKosten: Normalpreis: 38 € | Mitgliedspreis: 35 € | Elternbildungsgutscheine können eingelöst werden
URL:https://www.wirbelwind-gutau.at/event/babyspielgruppe-am-donnerstag-2/
LOCATION:Eltern Kind Treff Wirbelwind Gutau\, St. Oswalderstraße 2\, Gutau\, Oberösterreich\, 4293\, Österreich
CATEGORIES:Frühlingsprogramm 2025,Spielgruppe
ATTACH;FMTTYPE=image/png:https://www.wirbelwind-gutau.at/wp-content/uploads/2023/07/Programm-Bilder-mit-Gutschein-1-e1698872362184.png
ORGANIZER;CN="Eltern-Kind-Treff":MAILTO:wirbelwindgutau@hotmail.com
END:VEVENT
BEGIN:VEVENT
DTSTART;TZID=Europe/Vienna:20250428T090000
DTEND;TZID=Europe/Vienna:20250428T110000
DTSTAMP:20260424T030955
CREATED:20250307T173137Z
LAST-MODIFIED:20250323T144022Z
UID:3051-1745830800-1745838000@www.wirbelwind-gutau.at
SUMMARY:Spielgruppe am Montag
DESCRIPTION:Die Spielgruppe für Kinder von 1 bis 2 Jahren ist der perfekte Ort\, um neue Freunde zu treffen und gemeinsam Spaß zu haben. Hier können die Kleinen zusammen singen\, spielen und auch erste Erfahrungen im Basteln sammeln. Die Spiele und Aktivitäten sind speziell auf die Bedürfnisse dieser Altersgruppe abgestimmt und fördern die motorischen Fähigkeiten sowie die Kreativität der Teilnehmer. Bei der gemeinsamen Jause können die Kinder eine Pause machen und neue Energien tanken. Mit viel Spaß und Freude können die Kinder erste Freundschaften knüpfen und ihre sozialen Fähigkeiten trainieren. Auch der Austausch zwischen den Eltern kommt natürlich nicht zu kurz  \nFür max. 8 Kinder von 1 bis 2 Jahren mit Begleitung. (8 Treffen) \nDatum & Uhrzeit: ab Montag\, 28. April 2025 | 9:00-11:00 Uhr\nLeitung: Tamara Kastler\nOrt: EKT Wirbelwind Gutau\nKosten: Normalpreis: 43 € | Mitgliedspreis: 40 € | Elternbildungsgutscheine können eingelöst werden
URL:https://www.wirbelwind-gutau.at/event/spielgruppe-am-montag-2/
LOCATION:Eltern Kind Treff Wirbelwind Gutau\, St. Oswalderstraße 2\, Gutau\, Oberösterreich\, 4293\, Österreich
CATEGORIES:Frühlingsprogramm 2025,Spielgruppe
ATTACH;FMTTYPE=image/png:https://www.wirbelwind-gutau.at/wp-content/uploads/2023/04/Programm-Bilder-mit-Gutschein-e1743407520184.png
ORGANIZER;CN="Eltern-Kind-Treff":MAILTO:wirbelwindgutau@hotmail.com
END:VEVENT
BEGIN:VEVENT
DTSTART;TZID=Europe/Vienna:20250429T090000
DTEND;TZID=Europe/Vienna:20250429T110000
DTSTAMP:20260424T030955
CREATED:20250307T174539Z
LAST-MODIFIED:20250323T144003Z
UID:3058-1745917200-1745924400@www.wirbelwind-gutau.at
SUMMARY:Spielgruppe am Dienstag
DESCRIPTION:Diese Spielgruppe wird mit englischen Kinderliedern aufgepeppt und ist für Kinder von 2 bis 3\,5 Jahren der perfekte Ort\, um neue Freunde zu treffen und gemeinsam Spaß zu haben. Hier können die Kleinen zusammen singen\, spielen und auch erste Erfahrungen im Basteln sammeln. Die Spiele und Aktivitäten sind speziell auf die Bedürfnisse dieser Altersgruppe abgestimmt und fördern die motorischen Fähigkeiten sowie die Kreativität der Teilnehmer. Bei der gemeinsamen Jause können die Kinder eine Pause machen und neue Energien tanken. Mit viel Spaß und Freude können die Kinder erste Freundschaften knüpfen und ihre sozialen Fähigkeiten trainieren. Auch der Austausch zwischen den Eltern kommt natürlich nicht zu kurz.\n \nFür max. 8 Kinder von 2 bis 3\,5 Jahren mit Begleitung. (8 Treffen) \nDatum & Uhrzeit: ab Dienstag\, 29. April 2025 | 9:00-11:00 Uhr\nLeitung: Anna Kapeller und Sarah Schmolmüller\nOrt: EKT Wirbelwind Gutau\nKosten: Normalpreis: 43 € | Mitgliedspreis: 40 € | Elternbildungsgutscheine können eingelöst werden
URL:https://www.wirbelwind-gutau.at/event/spielgruppe-am-dienstag-2/
LOCATION:Eltern Kind Treff Wirbelwind Gutau\, St. Oswalderstraße 2\, Gutau\, Oberösterreich\, 4293\, Österreich
CATEGORIES:Frühlingsprogramm 2025,Spielgruppe
ATTACH;FMTTYPE=image/png:https://www.wirbelwind-gutau.at/wp-content/uploads/2023/04/Programm-Bilder-mit-Gutschein-e1743407520184.png
ORGANIZER;CN="Eltern-Kind-Treff":MAILTO:wirbelwindgutau@hotmail.com
END:VEVENT
END:VCALENDAR