BEGIN:VCALENDAR
VERSION:2.0
PRODID:-//Wirbelwind Eltern-Kind-Treff Gutau - ECPv6.15.20//NONSGML v1.0//EN
CALSCALE:GREGORIAN
METHOD:PUBLISH
X-WR-CALNAME:Wirbelwind Eltern-Kind-Treff Gutau
X-ORIGINAL-URL:https://www.wirbelwind-gutau.at
X-WR-CALDESC:Veranstaltungen für Wirbelwind Eltern-Kind-Treff Gutau
REFRESH-INTERVAL;VALUE=DURATION:PT1H
X-Robots-Tag:noindex
X-PUBLISHED-TTL:PT1H
BEGIN:VTIMEZONE
TZID:Europe/Vienna
BEGIN:DAYLIGHT
TZOFFSETFROM:+0100
TZOFFSETTO:+0200
TZNAME:CEST
DTSTART:20240331T010000
END:DAYLIGHT
BEGIN:STANDARD
TZOFFSETFROM:+0200
TZOFFSETTO:+0100
TZNAME:CET
DTSTART:20241027T010000
END:STANDARD
BEGIN:DAYLIGHT
TZOFFSETFROM:+0100
TZOFFSETTO:+0200
TZNAME:CEST
DTSTART:20250330T010000
END:DAYLIGHT
BEGIN:STANDARD
TZOFFSETFROM:+0200
TZOFFSETTO:+0100
TZNAME:CET
DTSTART:20251026T010000
END:STANDARD
BEGIN:DAYLIGHT
TZOFFSETFROM:+0100
TZOFFSETTO:+0200
TZNAME:CEST
DTSTART:20260329T010000
END:DAYLIGHT
BEGIN:STANDARD
TZOFFSETFROM:+0200
TZOFFSETTO:+0100
TZNAME:CET
DTSTART:20261025T010000
END:STANDARD
END:VTIMEZONE
BEGIN:VEVENT
DTSTART;TZID=Europe/Vienna:20250312T180000
DTEND;TZID=Europe/Vienna:20250312T203000
DTSTAMP:20260424T042519
CREATED:20241207T224016Z
LAST-MODIFIED:20241220T111245Z
UID:2822-1741802400-1741811400@www.wirbelwind-gutau.at
SUMMARY:Workshop Trockenblumenloop binden
DESCRIPTION:Hast du Lust kreativ zu sein und etwas einzigartiges zu gestalten? Das erwartet dich: In gemütlicher Atmosphäre zeigt dir Julia\, wie du deinen eigenen Trockenblumenloop binden kannst. Ob für die Tür\, als Wanddeko oder als besonderes Geschenk – mit hochwertigen Trockenblumen und deiner Kreativität entstehen wunderschöne Unikate. \nTeilnehmerzahl: 10 Personen \nDatum & Uhrzeit: Mittwoch\, 12. März 2025 | 18:00-20:30 Uhr\nLeitung: Julia Kiesenhofer (Florales Handwerk)\nOrt: EKT Wirbelwind\nKosten: 28 € pro Person inkl. Materialien \nFoto: Trockenblumenloop_FloralesHandwerk. Bildquelle: Julia Kiesenhofer
URL:https://www.wirbelwind-gutau.at/event/workshop-trockenblumenloop-binden/
LOCATION:Eltern Kind Treff Wirbelwind Gutau\, St. Oswalderstraße 2\, Gutau\, Oberösterreich\, 4293\, Österreich
CATEGORIES:Kurs/Workshop,Winterprogramm 2025
ATTACH;FMTTYPE=image/png:https://www.wirbelwind-gutau.at/wp-content/uploads/2024/12/Programm-Bilder-6-e1733611196289.png
ORGANIZER;CN="Eltern-Kind-Treff":MAILTO:wirbelwindgutau@hotmail.com
END:VEVENT
END:VCALENDAR