BEGIN:VCALENDAR
VERSION:2.0
PRODID:-//Wirbelwind Eltern-Kind-Treff Gutau - ECPv6.15.20//NONSGML v1.0//EN
CALSCALE:GREGORIAN
METHOD:PUBLISH
X-ORIGINAL-URL:https://www.wirbelwind-gutau.at
X-WR-CALDESC:Veranstaltungen für Wirbelwind Eltern-Kind-Treff Gutau
REFRESH-INTERVAL;VALUE=DURATION:PT1H
X-Robots-Tag:noindex
X-PUBLISHED-TTL:PT1H
BEGIN:VTIMEZONE
TZID:Europe/Vienna
BEGIN:DAYLIGHT
TZOFFSETFROM:+0100
TZOFFSETTO:+0200
TZNAME:CEST
DTSTART:20250330T010000
END:DAYLIGHT
BEGIN:STANDARD
TZOFFSETFROM:+0200
TZOFFSETTO:+0100
TZNAME:CET
DTSTART:20251026T010000
END:STANDARD
BEGIN:DAYLIGHT
TZOFFSETFROM:+0100
TZOFFSETTO:+0200
TZNAME:CEST
DTSTART:20260329T010000
END:DAYLIGHT
BEGIN:STANDARD
TZOFFSETFROM:+0200
TZOFFSETTO:+0100
TZNAME:CET
DTSTART:20261025T010000
END:STANDARD
BEGIN:DAYLIGHT
TZOFFSETFROM:+0100
TZOFFSETTO:+0200
TZNAME:CEST
DTSTART:20270328T010000
END:DAYLIGHT
BEGIN:STANDARD
TZOFFSETFROM:+0200
TZOFFSETTO:+0100
TZNAME:CET
DTSTART:20271031T010000
END:STANDARD
END:VTIMEZONE
BEGIN:VEVENT
DTSTART;TZID=Europe/Vienna:20260419T140000
DTEND;TZID=Europe/Vienna:20260419T170000
DTSTAMP:20260421T125452
CREATED:20260226T214749Z
LAST-MODIFIED:20260416T070837Z
UID:3907-1776607200-1776618000@www.wirbelwind-gutau.at
SUMMARY:Mini-Familienshooting für Familien | 19.4.2026
DESCRIPTION:Der Frühling kommt – die perfekte Zeit für natürliche\, liebevolle Erinnerungen mit euren Kindern! Ich lade euch herzlich zu meinen exklusiven Frühlings-Minishootings für Familien mit Kindern ein. Überrascht Mama mit gemeinsamen Erinnerungen – ein Frühlings-Minishooting ist ein persönliches und zeitloses Geschenk zum Muttertag.\nWichtig: Die Minishootings sind exklusiv für Familien mit Kindern und die Plätze sind stark begrenzt. \nDatum & Uhrzeit: 19. April 2026 | 6 Termine\, jeweils am Nachmittag\n(Ersatztermine bei Schlechtwetter: 25. & 26. April 2026) \nLeitung: Johanna Schabes\nOrt: Dambachler Hof\, Neustadt 4\, 4293 Gutau\nKosten: 50 € Grundpreis + 15 € pro ausgewähltem Foto \nBitte direkt bei Johanna melden: 0681/20260460 \n(Auswahl der Bilder bequem über eine Onlinegalerie)
URL:https://www.wirbelwind-gutau.at/event/mini-familienshooting-fuer-familien-19-4-2026/
LOCATION:Dambachler Hof\, Neustadt 4\, Gutau\, Oberösterreich\, 4293\, Austria
CATEGORIES:Frühlingsprogramm 2026
ATTACH;FMTTYPE=image/png:https://www.wirbelwind-gutau.at/wp-content/uploads/2026/02/Kopie-von-Kopie-von-Programm-Bilder-e1771425663521.png
ORGANIZER;CN="Eltern-Kind-Treff":MAILTO:wirbelwindgutau@hotmail.com
END:VEVENT
END:VCALENDAR