BEGIN:VCALENDAR
VERSION:2.0
PRODID:-//Wirbelwind Eltern-Kind-Treff Gutau - ECPv6.15.20//NONSGML v1.0//EN
CALSCALE:GREGORIAN
METHOD:PUBLISH
X-WR-CALNAME:Wirbelwind Eltern-Kind-Treff Gutau
X-ORIGINAL-URL:https://www.wirbelwind-gutau.at
X-WR-CALDESC:Veranstaltungen für Wirbelwind Eltern-Kind-Treff Gutau
REFRESH-INTERVAL;VALUE=DURATION:PT1H
X-Robots-Tag:noindex
X-PUBLISHED-TTL:PT1H
BEGIN:VTIMEZONE
TZID:Europe/Vienna
BEGIN:DAYLIGHT
TZOFFSETFROM:+0100
TZOFFSETTO:+0200
TZNAME:CEST
DTSTART:20250330T010000
END:DAYLIGHT
BEGIN:STANDARD
TZOFFSETFROM:+0200
TZOFFSETTO:+0100
TZNAME:CET
DTSTART:20251026T010000
END:STANDARD
BEGIN:DAYLIGHT
TZOFFSETFROM:+0100
TZOFFSETTO:+0200
TZNAME:CEST
DTSTART:20260329T010000
END:DAYLIGHT
BEGIN:STANDARD
TZOFFSETFROM:+0200
TZOFFSETTO:+0100
TZNAME:CET
DTSTART:20261025T010000
END:STANDARD
BEGIN:DAYLIGHT
TZOFFSETFROM:+0100
TZOFFSETTO:+0200
TZNAME:CEST
DTSTART:20270328T010000
END:DAYLIGHT
BEGIN:STANDARD
TZOFFSETFROM:+0200
TZOFFSETTO:+0100
TZNAME:CET
DTSTART:20271031T010000
END:STANDARD
END:VTIMEZONE
BEGIN:VEVENT
DTSTART;TZID=Europe/Vienna:20260415T150000
DTEND;TZID=Europe/Vienna:20260415T163000
DTSTAMP:20260421T125456
CREATED:20260218T145145Z
LAST-MODIFIED:20260317T161107Z
UID:3872-1776265200-1776270600@www.wirbelwind-gutau.at
SUMMARY:Waldrunde mit den Ponys - Natur erleben & Ponyglück spüren
DESCRIPTION:Ein ganz besonderes Erlebnis für kleine Pferdefans: Gemeinsam mit unseren lieben Ponys geht es auf eine geführte Tour durch den Wald. Nach dem Putzen und Satteln reiten die Kinder durch Wiesen und Wälder – bergauf\, bergab und mitten durch die Natur. Dabei erleben sie Ruhe\, Bewegung und ganz viel Ponyglück. \nDas erwartet die Kinder: \n\nPonys selbst vorbereiten (holen\, putzen\, satteln)\nGeführter Ausritt durch den Wald\nNatur erleben: sehen\, hören\, fühlen\nZum Abschluss: Ponys füttern & versorgen\n\nFür max. 6 Kinder von 3-6 Jahren mit Begleitung. \nDatum & Uhrzeit: Mittwoch\, 15.4.2026 | 15:00-16:30 Uhr\nLeitung: Verena Montgomery\nOrt: Ponyhof Daneder\nKosten: 16€ pro Kind (für 2. Geschwisterkind 10€)
URL:https://www.wirbelwind-gutau.at/event/waldrunde-mit-den-ponys-natur-erleben-ponyglueck-spueren/
LOCATION:Ponyhof Daneder\, Hundsdorf 13\, Gutau\, Oberösterreich\, 4293\, Austria
CATEGORIES:Erlebnisnachmittag,Frühlingsprogramm 2026
ATTACH;FMTTYPE=image/png:https://www.wirbelwind-gutau.at/wp-content/uploads/2026/02/3-e1771426282573.png
ORGANIZER;CN="Eltern-Kind-Treff":MAILTO:wirbelwindgutau@hotmail.com
END:VEVENT
END:VCALENDAR