BEGIN:VCALENDAR
VERSION:2.0
PRODID:-//Wirbelwind Eltern-Kind-Treff Gutau - ECPv6.15.20//NONSGML v1.0//EN
CALSCALE:GREGORIAN
METHOD:PUBLISH
X-ORIGINAL-URL:https://www.wirbelwind-gutau.at
X-WR-CALDESC:Veranstaltungen für Wirbelwind Eltern-Kind-Treff Gutau
REFRESH-INTERVAL;VALUE=DURATION:PT1H
X-Robots-Tag:noindex
X-PUBLISHED-TTL:PT1H
BEGIN:VTIMEZONE
TZID:Europe/Vienna
BEGIN:DAYLIGHT
TZOFFSETFROM:+0100
TZOFFSETTO:+0200
TZNAME:CEST
DTSTART:20250330T010000
END:DAYLIGHT
BEGIN:STANDARD
TZOFFSETFROM:+0200
TZOFFSETTO:+0100
TZNAME:CET
DTSTART:20251026T010000
END:STANDARD
BEGIN:DAYLIGHT
TZOFFSETFROM:+0100
TZOFFSETTO:+0200
TZNAME:CEST
DTSTART:20260329T010000
END:DAYLIGHT
BEGIN:STANDARD
TZOFFSETFROM:+0200
TZOFFSETTO:+0100
TZNAME:CET
DTSTART:20261025T010000
END:STANDARD
BEGIN:DAYLIGHT
TZOFFSETFROM:+0100
TZOFFSETTO:+0200
TZNAME:CEST
DTSTART:20270328T010000
END:DAYLIGHT
BEGIN:STANDARD
TZOFFSETFROM:+0200
TZOFFSETTO:+0100
TZNAME:CET
DTSTART:20271031T010000
END:STANDARD
END:VTIMEZONE
BEGIN:VEVENT
DTSTART;TZID=Europe/Vienna:20260414T090000
DTEND;TZID=Europe/Vienna:20260414T110000
DTSTAMP:20260423T121232
CREATED:20260218T142352Z
LAST-MODIFIED:20260317T161050Z
UID:3838-1776157200-1776164400@www.wirbelwind-gutau.at
SUMMARY:Spielgruppe am Dienstag
DESCRIPTION:Diese Spielgruppe wird mit englischen Kinderliedern aufgepeppt und ist für Kinder von 2 bis 3\,5 Jahren der perfekte Ort\, um neue Freunde zu treffen und gemeinsam Spaß zu haben. Hier können die Kleinen zusammen singen\, spielen und auch erste Erfahrungen im Basteln sammeln. Die Spiele und Aktivitäten sind speziell auf die Bedürfnisse dieser Altersgruppe abgestimmt und fördern die motorischen Fähigkeiten sowie die Kreativität der Teilnehmer. Bei der gemeinsamen Jause können die Kinder eine Pause machen und neue Energien tanken. Mit viel Spaß und Freude können die Kinder erste Freundschaften knüpfen und ihre sozialen Fähigkeiten trainieren. Auch der Austausch zwischen den Eltern kommt natürlich nicht zu kurz. \n  \nFür max. 8 Kinder von 2 bis 3\,5 Jahren mit Begleitung. (10 Treffen) \n\nDatum & Uhrzeit: ab Dienstag\, 14. April 2026 | 9:00-11:00 Uhr\nLeitung: Anna Kapeller\nOrt: EKT Wirbelwind Gutau\nKosten: Normalpreis: 54 € | Mitgliedspreis: 50 € 
URL:https://www.wirbelwind-gutau.at/event/spielgruppe-am-dienstag-5/
LOCATION:Eltern Kind Treff Wirbelwind Gutau\, St. Oswalderstraße 2\, Gutau\, Oberösterreich\, 4293\, Österreich
CATEGORIES:Frühlingsprogramm 2026,Spielgruppe
ATTACH;FMTTYPE=image/png:https://www.wirbelwind-gutau.at/wp-content/uploads/2023/07/Kopie-von-Programm-Bilder-mit-Gutschein-3-e1698267923671.png
ORGANIZER;CN="Eltern-Kind-Treff":MAILTO:wirbelwindgutau@hotmail.com
END:VEVENT
BEGIN:VEVENT
DTSTART;TZID=Europe/Vienna:20260414T150000
DTEND;TZID=Europe/Vienna:20260414T163000
DTSTAMP:20260423T121232
CREATED:20260311T145122Z
LAST-MODIFIED:20260317T161057Z
UID:3979-1776178800-1776184200@www.wirbelwind-gutau.at
SUMMARY:Waldrunde mit den Ponys - Natur erleben & Ponyglück spüren | 14.4.2026
DESCRIPTION:Ein ganz besonderes Erlebnis für kleine Pferdefans: Gemeinsam mit unseren lieben Ponys geht es auf eine geführte Tour durch den Wald. Nach dem Putzen und Satteln reiten die Kinder durch Wiesen und Wälder – bergauf\, bergab und mitten durch die Natur. Dabei erleben sie Ruhe\, Bewegung und ganz viel Ponyglück. \nDas erwartet die Kinder: \n\nPonys selbst vorbereiten (holen\, putzen\, satteln)\nGeführter Ausritt durch den Wald\nNatur erleben: sehen\, hören\, fühlen\nZum Abschluss: Ponys füttern & versorgen\n\nFür max. 6 Kinder von 3-6 Jahren mit Begleitung. \nDatum & Uhrzeit: Dienstag\, 14.4.2026 | 15:00-16:30 Uhr\nLeitung: Verena Montgomery\nOrt: Ponyhof Daneder\nKosten: 16€ pro Kind (für 2. Geschwisterkind 10€)
URL:https://www.wirbelwind-gutau.at/event/waldrunde-mit-den-ponys-natur-erleben-ponyglueck-spueren-14-4-2026/
LOCATION:Ponyhof Daneder\, Hundsdorf 13\, Gutau\, Oberösterreich\, 4293\, Austria
CATEGORIES:Erlebnisnachmittag,Frühlingsprogramm 2026
ATTACH;FMTTYPE=image/png:https://www.wirbelwind-gutau.at/wp-content/uploads/2026/02/3-e1771426282573.png
END:VEVENT
END:VCALENDAR