BEGIN:VCALENDAR
VERSION:2.0
PRODID:-//Wirbelwind Eltern-Kind-Treff Gutau - ECPv6.15.20//NONSGML v1.0//EN
CALSCALE:GREGORIAN
METHOD:PUBLISH
X-WR-CALNAME:Wirbelwind Eltern-Kind-Treff Gutau
X-ORIGINAL-URL:https://www.wirbelwind-gutau.at
X-WR-CALDESC:Veranstaltungen für Wirbelwind Eltern-Kind-Treff Gutau
REFRESH-INTERVAL;VALUE=DURATION:PT1H
X-Robots-Tag:noindex
X-PUBLISHED-TTL:PT1H
BEGIN:VTIMEZONE
TZID:Europe/Vienna
BEGIN:DAYLIGHT
TZOFFSETFROM:+0100
TZOFFSETTO:+0200
TZNAME:CEST
DTSTART:20250330T010000
END:DAYLIGHT
BEGIN:STANDARD
TZOFFSETFROM:+0200
TZOFFSETTO:+0100
TZNAME:CET
DTSTART:20251026T010000
END:STANDARD
BEGIN:DAYLIGHT
TZOFFSETFROM:+0100
TZOFFSETTO:+0200
TZNAME:CEST
DTSTART:20260329T010000
END:DAYLIGHT
BEGIN:STANDARD
TZOFFSETFROM:+0200
TZOFFSETTO:+0100
TZNAME:CET
DTSTART:20261025T010000
END:STANDARD
BEGIN:DAYLIGHT
TZOFFSETFROM:+0100
TZOFFSETTO:+0200
TZNAME:CEST
DTSTART:20270328T010000
END:DAYLIGHT
BEGIN:STANDARD
TZOFFSETFROM:+0200
TZOFFSETTO:+0100
TZNAME:CET
DTSTART:20271031T010000
END:STANDARD
END:VTIMEZONE
BEGIN:VEVENT
DTSTART;TZID=Europe/Vienna:20260228T080000
DTEND;TZID=Europe/Vienna:20260228T160000
DTSTAMP:20260423T134229
CREATED:20251208T033221Z
LAST-MODIFIED:20251208T033325Z
UID:3649-1772265600-1772294400@www.wirbelwind-gutau.at
SUMMARY:Erste Hilfe Kurs für Kinder und Säuglinge
DESCRIPTION:Dieser spezieller Erste-Hilfe-Kurs geht auf die Bedürfnisse von Kindern und Säuglingen ein. \nKursinhalt: \n\nGefahren erkennen\nNotruf absetzen und Rettungskette\nHerz-Lungen-Wiederbelebung nach neuesten Richtlinien beim Säugling und beim Kind\nUmgang mit dem halbautomatischen Defibrillator\nMaßnahmen bei plötzlichen Erkrankungen\, Vergiftungen\nMaßnahmen bei Kinderkrankheiten und häufigen Verletzungen im Kindesalter\nUnfallverhütung\nZahlreiche praktische Übungen\n\nDatum & Uhrzeit: Samstag\, 28. Februar 2025 | ab 8:00 – ca. 16:00 Uhr | 8 Kurseinheiten\nLeitung: Monika Manzenreiter\nOrt: Kubus Foyer\nKosten: 82 € pro Person \nDer Kurs findet bei mind. 15 Anmeldungen statt. \nAnmeldung unter: www.erstehilfe.at\nAbrechnung erfolgt über das Österreichische Rote Kreuz.
URL:https://www.wirbelwind-gutau.at/event/erste-hilfe-kurs-fuer-kinder-und-saeuglinge-2/
LOCATION:KuBus Gutau\, Pregartenerstraße 4\, Gutau\, Oberösterreich\, 4293\, Österreich
CATEGORIES:Kurs/Workshop,Winterprogramm 2026
ATTACH;FMTTYPE=image/png:https://www.wirbelwind-gutau.at/wp-content/uploads/2024/12/Programm-Bilder-3-e1733610076394.png
ORGANIZER;CN="Eltern-Kind-Treff":MAILTO:wirbelwindgutau@hotmail.com
END:VEVENT
END:VCALENDAR