BEGIN:VCALENDAR
VERSION:2.0
PRODID:-//Wirbelwind Eltern-Kind-Treff Gutau - ECPv6.15.20//NONSGML v1.0//EN
CALSCALE:GREGORIAN
METHOD:PUBLISH
X-ORIGINAL-URL:https://www.wirbelwind-gutau.at
X-WR-CALDESC:Veranstaltungen für Wirbelwind Eltern-Kind-Treff Gutau
REFRESH-INTERVAL;VALUE=DURATION:PT1H
X-Robots-Tag:noindex
X-PUBLISHED-TTL:PT1H
BEGIN:VTIMEZONE
TZID:Europe/Vienna
BEGIN:DAYLIGHT
TZOFFSETFROM:+0100
TZOFFSETTO:+0200
TZNAME:CEST
DTSTART:20250330T010000
END:DAYLIGHT
BEGIN:STANDARD
TZOFFSETFROM:+0200
TZOFFSETTO:+0100
TZNAME:CET
DTSTART:20251026T010000
END:STANDARD
BEGIN:DAYLIGHT
TZOFFSETFROM:+0100
TZOFFSETTO:+0200
TZNAME:CEST
DTSTART:20260329T010000
END:DAYLIGHT
BEGIN:STANDARD
TZOFFSETFROM:+0200
TZOFFSETTO:+0100
TZNAME:CET
DTSTART:20261025T010000
END:STANDARD
BEGIN:DAYLIGHT
TZOFFSETFROM:+0100
TZOFFSETTO:+0200
TZNAME:CEST
DTSTART:20270328T010000
END:DAYLIGHT
BEGIN:STANDARD
TZOFFSETFROM:+0200
TZOFFSETTO:+0100
TZNAME:CET
DTSTART:20271031T010000
END:STANDARD
END:VTIMEZONE
BEGIN:VEVENT
DTSTART;TZID=Europe/Vienna:20260123T143000
DTEND;TZID=Europe/Vienna:20260123T173000
DTSTAMP:20260423T165202
CREATED:20251208T032943Z
LAST-MODIFIED:20251208T033445Z
UID:3646-1769178600-1769189400@www.wirbelwind-gutau.at
SUMMARY:Kinderdisco
DESCRIPTION:Komm und feiere mit bei unserer einzigartigen Kinderdisco für die Kleinsten im Ort! \n Kinder ab 1 Jahr und ihre Begleitung sind herzlich willkommen\, um ein paar Stunden lang zu tanzen\, springen und singen! Selbstverständlich gibt es zwischendurch leckere Knabbereien\, Kuchen und Getränke\, damit die kleinen Partygäste richtig gestärkt sind! Die zusätzliche Jause bitte selbst mitbringen! \nGerne dürfen die Kinder verkleidet kommen und sich bereits auf den Fasching einstimmen. Bei unserem Kinderschminken\, wird bekommen die Kostüme den letzten Feinschliff! \nWir erwecken den verdunkelten Raum mit bunten Scheinwerfern\, Knicklichtern und Kinderliedern zum Leben. \nKeine Anmeldung erforderlich – einfach vorbeikommen und mitfeiern! Wir freuen uns auf euch! \nDatum & Uhrzeit: Freitag\, 23. Jänner 2026 | 14:30-17:30 Uhr\nOrt: Alte Schule Gutau \nKosten: Freiwillige Spenden
URL:https://www.wirbelwind-gutau.at/event/kinderdisco-2/
LOCATION:Alte Schule Gutau\, St. Leonharderstraße 4\, Gutau\, Oberösterreich\, 4293\, Österreich
CATEGORIES:Erlebnisnachmittag,Winterprogramm 2026
ATTACH;FMTTYPE=image/png:https://www.wirbelwind-gutau.at/wp-content/uploads/2023/11/Design-ohne-Titel-1-e1699483917357.png
ORGANIZER;CN="Eltern-Kind-Treff":MAILTO:wirbelwindgutau@hotmail.com
END:VEVENT
END:VCALENDAR