BEGIN:VCALENDAR
VERSION:2.0
PRODID:-//Wirbelwind Eltern-Kind-Treff Gutau - ECPv6.15.20//NONSGML v1.0//EN
CALSCALE:GREGORIAN
METHOD:PUBLISH
X-WR-CALNAME:Wirbelwind Eltern-Kind-Treff Gutau
X-ORIGINAL-URL:https://www.wirbelwind-gutau.at
X-WR-CALDESC:Veranstaltungen für Wirbelwind Eltern-Kind-Treff Gutau
REFRESH-INTERVAL;VALUE=DURATION:PT1H
X-Robots-Tag:noindex
X-PUBLISHED-TTL:PT1H
BEGIN:VTIMEZONE
TZID:Europe/Vienna
BEGIN:DAYLIGHT
TZOFFSETFROM:+0100
TZOFFSETTO:+0200
TZNAME:CEST
DTSTART:20240331T010000
END:DAYLIGHT
BEGIN:STANDARD
TZOFFSETFROM:+0200
TZOFFSETTO:+0100
TZNAME:CET
DTSTART:20241027T010000
END:STANDARD
BEGIN:DAYLIGHT
TZOFFSETFROM:+0100
TZOFFSETTO:+0200
TZNAME:CEST
DTSTART:20250330T010000
END:DAYLIGHT
BEGIN:STANDARD
TZOFFSETFROM:+0200
TZOFFSETTO:+0100
TZNAME:CET
DTSTART:20251026T010000
END:STANDARD
BEGIN:DAYLIGHT
TZOFFSETFROM:+0100
TZOFFSETTO:+0200
TZNAME:CEST
DTSTART:20260329T010000
END:DAYLIGHT
BEGIN:STANDARD
TZOFFSETFROM:+0200
TZOFFSETTO:+0100
TZNAME:CET
DTSTART:20261025T010000
END:STANDARD
END:VTIMEZONE
BEGIN:VEVENT
DTSTART;TZID=Europe/Vienna:20251217T160000
DTEND;TZID=Europe/Vienna:20251217T170000
DTSTAMP:20260423T181916
CREATED:20251112T153314Z
LAST-MODIFIED:20251112T160741Z
UID:3579-1765987200-1765990800@www.wirbelwind-gutau.at
SUMMARY:🎄 Bobby-Car-Nachmittag – Weihnachts-Edition
DESCRIPTION:Packt eure Kinder mit samt Indoor-Fahrzeugen ein und kommt! Wir haben einen ganzen Turnsaal mit Hindernissen und weihnachtlicher Vorfreude.\nWir freuen uns auf euch! \nKinder im Alter von ca. 1-6 Jahren mit Begleitung! \nKeine Anmeldung erforderlich! \nDatum: Mittwoch\, den 17.12.2025 von 16-17 Uhr\nOrt: Kubus Gutau\nLeitung: Stefanie Neumüller und Anna Lesterl\nKosten: 2 €/ Familie
URL:https://www.wirbelwind-gutau.at/event/bobby-car-weihnachts-edition/
LOCATION:KuBus Gutau\, Pregartenerstraße 4\, Gutau\, Oberösterreich\, 4293\, Österreich
CATEGORIES:Bewegung und Sport,Erlebnisnachmittag,Herbstprogramm 2025
ATTACH;FMTTYPE=image/png:https://www.wirbelwind-gutau.at/wp-content/uploads/2025/11/Design-ohne-Titel-6.png
ORGANIZER;CN="Eltern-Kind-Treff":MAILTO:wirbelwindgutau@hotmail.com
END:VEVENT
END:VCALENDAR