BEGIN:VCALENDAR
VERSION:2.0
PRODID:-//Wirbelwind Eltern-Kind-Treff Gutau - ECPv6.15.20//NONSGML v1.0//EN
CALSCALE:GREGORIAN
METHOD:PUBLISH
X-ORIGINAL-URL:https://www.wirbelwind-gutau.at
X-WR-CALDESC:Veranstaltungen für Wirbelwind Eltern-Kind-Treff Gutau
REFRESH-INTERVAL;VALUE=DURATION:PT1H
X-Robots-Tag:noindex
X-PUBLISHED-TTL:PT1H
BEGIN:VTIMEZONE
TZID:Europe/Vienna
BEGIN:DAYLIGHT
TZOFFSETFROM:+0100
TZOFFSETTO:+0200
TZNAME:CEST
DTSTART:20240331T010000
END:DAYLIGHT
BEGIN:STANDARD
TZOFFSETFROM:+0200
TZOFFSETTO:+0100
TZNAME:CET
DTSTART:20241027T010000
END:STANDARD
BEGIN:DAYLIGHT
TZOFFSETFROM:+0100
TZOFFSETTO:+0200
TZNAME:CEST
DTSTART:20250330T010000
END:DAYLIGHT
BEGIN:STANDARD
TZOFFSETFROM:+0200
TZOFFSETTO:+0100
TZNAME:CET
DTSTART:20251026T010000
END:STANDARD
BEGIN:DAYLIGHT
TZOFFSETFROM:+0100
TZOFFSETTO:+0200
TZNAME:CEST
DTSTART:20260329T010000
END:DAYLIGHT
BEGIN:STANDARD
TZOFFSETFROM:+0200
TZOFFSETTO:+0100
TZNAME:CET
DTSTART:20261025T010000
END:STANDARD
END:VTIMEZONE
BEGIN:VEVENT
DTSTART;TZID=Europe/Vienna:20251216T150000
DTEND;TZID=Europe/Vienna:20251216T170000
DTSTAMP:20260423T181357
CREATED:20250721T072426Z
LAST-MODIFIED:20250902T201520Z
UID:3331-1765897200-1765904400@www.wirbelwind-gutau.at
SUMMARY:Adventnachmittag am Dienstag
DESCRIPTION:Gemeinsam Lieder singen\, Weihnachtsgeschichten lesen und dem Christkind damit helfen Geschenke zu basteln – lass uns gemeinsam einen gemütlichen Adventnachmittag verbringen. Dabei darf die Verkostung von Keksen natürlich auf keinen Fall fehlen! \nFür max. 10 Kinder ab 2\,5 Jahren\, gerne mit Begleitung. \nDatum & Uhrzeit: Dienstag\, 16. Dezember 2025 | 15:00 Uhr\nLeitung: Johanna Karte und Kristin Höfer\nOrt: EKT Wirbelwind Gutau\nKosten: Normalpreis: 5 € | Mitgliedspreis: 4 € 
URL:https://www.wirbelwind-gutau.at/event/adventnachmittag-am-dienstag/
LOCATION:Eltern Kind Treff Wirbelwind Gutau\, St. Oswalderstraße 2\, Gutau\, Oberösterreich\, 4293\, Österreich
CATEGORIES:Erlebnisnachmittag,Herbstprogramm 2025
ATTACH;FMTTYPE=image/png:https://www.wirbelwind-gutau.at/wp-content/uploads/2023/07/Kopie-von-Programm-Bilder-mit-Gutschein-2-e1753082492173.png
ORGANIZER;CN="Eltern-Kind-Treff":MAILTO:wirbelwindgutau@hotmail.com
END:VEVENT
END:VCALENDAR