BEGIN:VCALENDAR
VERSION:2.0
PRODID:-//Wirbelwind Eltern-Kind-Treff Gutau - ECPv6.15.20//NONSGML v1.0//EN
CALSCALE:GREGORIAN
METHOD:PUBLISH
X-WR-CALNAME:Wirbelwind Eltern-Kind-Treff Gutau
X-ORIGINAL-URL:https://www.wirbelwind-gutau.at
X-WR-CALDESC:Veranstaltungen für Wirbelwind Eltern-Kind-Treff Gutau
REFRESH-INTERVAL;VALUE=DURATION:PT1H
X-Robots-Tag:noindex
X-PUBLISHED-TTL:PT1H
BEGIN:VTIMEZONE
TZID:Europe/Vienna
BEGIN:DAYLIGHT
TZOFFSETFROM:+0100
TZOFFSETTO:+0200
TZNAME:CEST
DTSTART:20240331T010000
END:DAYLIGHT
BEGIN:STANDARD
TZOFFSETFROM:+0200
TZOFFSETTO:+0100
TZNAME:CET
DTSTART:20241027T010000
END:STANDARD
BEGIN:DAYLIGHT
TZOFFSETFROM:+0100
TZOFFSETTO:+0200
TZNAME:CEST
DTSTART:20250330T010000
END:DAYLIGHT
BEGIN:STANDARD
TZOFFSETFROM:+0200
TZOFFSETTO:+0100
TZNAME:CET
DTSTART:20251026T010000
END:STANDARD
BEGIN:DAYLIGHT
TZOFFSETFROM:+0100
TZOFFSETTO:+0200
TZNAME:CEST
DTSTART:20260329T010000
END:DAYLIGHT
BEGIN:STANDARD
TZOFFSETFROM:+0200
TZOFFSETTO:+0100
TZNAME:CET
DTSTART:20261025T010000
END:STANDARD
END:VTIMEZONE
BEGIN:VEVENT
DTSTART;TZID=Europe/Vienna:20250920T100000
DTEND;TZID=Europe/Vienna:20250920T120000
DTSTAMP:20260423T221417
CREATED:20250721T063614Z
LAST-MODIFIED:20250911T063109Z
UID:3267-1758362400-1758369600@www.wirbelwind-gutau.at
SUMMARY:Vormittag mit der Feuerwehr
DESCRIPTION:Schnuppere hinein in die spannende Welt der Feuerwehr. Interessantes und Wissenswertes für kleine Feuerwehrhelden – einfach erklärt und zum Ausprobieren – erwarten dich an diesem Vormittag. Zum Abschluss ist eine Fahrt mit dem Feuerwehrauto geplant! \nBitte Matschgewand und Gummistiefel anziehen! \nFür max. 15 Kinder ab 2\,5 Jahren\, mit Begleitung. \nDatum & Uhrzeit: Samstag\, 20.9.2025 | 10:00-12:00 Uhr\nOrt: Feuerwehrhaus Erdmannsdorf\nLeitung: Freiwillige Feuerwehr Erdmannsdorf\nKosten: Normalpreis: 5 € | Mitgliedspreis: 4 €
URL:https://www.wirbelwind-gutau.at/event/vormittag-mit-der-feuerwehr-2/
LOCATION:Feuerwehrhaus Erdmannsdorf\, Erdmannsdorf 79\, Erdmannsdorf\, Oberösterreich\, 4293\, Österreich
CATEGORIES:Erlebnisvormittag,Herbstprogramm 2025
ATTACH;FMTTYPE=image/png:https://www.wirbelwind-gutau.at/wp-content/uploads/2023/07/Kopie-von-Programm-Bilder-mit-Gutschein-e1721162731201.png
END:VEVENT
END:VCALENDAR