BEGIN:VCALENDAR
VERSION:2.0
PRODID:-//Wirbelwind Eltern-Kind-Treff Gutau - ECPv6.15.20//NONSGML v1.0//EN
CALSCALE:GREGORIAN
METHOD:PUBLISH
X-WR-CALNAME:Wirbelwind Eltern-Kind-Treff Gutau
X-ORIGINAL-URL:https://www.wirbelwind-gutau.at
X-WR-CALDESC:Veranstaltungen für Wirbelwind Eltern-Kind-Treff Gutau
REFRESH-INTERVAL;VALUE=DURATION:PT1H
X-Robots-Tag:noindex
X-PUBLISHED-TTL:PT1H
BEGIN:VTIMEZONE
TZID:Europe/Vienna
BEGIN:DAYLIGHT
TZOFFSETFROM:+0100
TZOFFSETTO:+0200
TZNAME:CEST
DTSTART:20240331T010000
END:DAYLIGHT
BEGIN:STANDARD
TZOFFSETFROM:+0200
TZOFFSETTO:+0100
TZNAME:CET
DTSTART:20241027T010000
END:STANDARD
BEGIN:DAYLIGHT
TZOFFSETFROM:+0100
TZOFFSETTO:+0200
TZNAME:CEST
DTSTART:20250330T010000
END:DAYLIGHT
BEGIN:STANDARD
TZOFFSETFROM:+0200
TZOFFSETTO:+0100
TZNAME:CET
DTSTART:20251026T010000
END:STANDARD
BEGIN:DAYLIGHT
TZOFFSETFROM:+0100
TZOFFSETTO:+0200
TZNAME:CEST
DTSTART:20260329T010000
END:DAYLIGHT
BEGIN:STANDARD
TZOFFSETFROM:+0200
TZOFFSETTO:+0100
TZNAME:CET
DTSTART:20261025T010000
END:STANDARD
END:VTIMEZONE
BEGIN:VEVENT
DTSTART;TZID=Europe/Vienna:20250917T160000
DTEND;TZID=Europe/Vienna:20250917T170000
DTSTAMP:20260423T222035
CREATED:20250721T070730Z
LAST-MODIFIED:20250825T121447Z
UID:3303-1758124800-1758128400@www.wirbelwind-gutau.at
SUMMARY:Eltern-Kind-Turnen; Gruppe 1: 16 - 17 Uhr
DESCRIPTION:Kindern macht es Freude sich zu bewegen. Im Turnsaal werden durch vielseitige Bewegungslandschaften und Spiele verschiedene Körper- und Bewegungserfahrungen gemacht. Das wiederum wirkt sich positiv auf das Selbstvertrauen und die Körperwahrnehmung aus. \nFür max. 15 Kinder von 3\,5 bis 6 Jahren mit Begleitung. (7 Treffen) \nDatum & Uhrzeit: ab Mittwoch\, 17. September 2025 | Gruppe 1: 16:00-17:00 (14-tägig)\nLeitung: Caroline Brandl\nOrt: Kubus Gutau (Eingang: Rampe zum Foyer)\nKosten: Normalpreis: 38 € | Mitgliedspreis: 35 €
URL:https://www.wirbelwind-gutau.at/event/eltern-kind-turnen-gruppe-1-16-17-uhr/
LOCATION:KuBus Gutau\, Pregartenerstraße 4\, Gutau\, Oberösterreich\, 4293\, Österreich
CATEGORIES:Bewegung und Sport,Herbstprogramm 2025
ATTACH;FMTTYPE=image/png:https://www.wirbelwind-gutau.at/wp-content/uploads/2024/12/Programm-Bilder-e1733608267138.png
ORGANIZER;CN="Eltern-Kind-Treff":MAILTO:wirbelwindgutau@hotmail.com
END:VEVENT
BEGIN:VEVENT
DTSTART;TZID=Europe/Vienna:20250917T170000
DTEND;TZID=Europe/Vienna:20250917T180000
DTSTAMP:20260423T222035
CREATED:20250721T071010Z
LAST-MODIFIED:20250825T121538Z
UID:3308-1758128400-1758132000@www.wirbelwind-gutau.at
SUMMARY:Eltern-Kind-Turnen; Gruppe 2: 17 - 18 Uhr
DESCRIPTION:Kindern macht es Freude sich zu bewegen. Im Turnsaal werden durch vielseitige Bewegungslandschaften und Spiele verschiedene Körper- und Bewegungserfahrungen gemacht. Das wiederum wirkt sich positiv auf das Selbstvertrauen und die Körperwahrnehmung aus. \nFür max. 15 Kinder von 3\,5 bis 6 Jahren mit Begleitung. (7 Treffen) \nDatum & Uhrzeit: ab Mittwoch\, 17. September 2025 | Gruppe 2: 17:00-18:00 (14-tägig)\nLeitung: Caroline Brandl\nOrt: Kubus Gutau (Eingang: über Hallenbad und in Mädchengaderobe warten)\nKosten: Normalpreis: 38 € | Mitgliedspreis: 35 €
URL:https://www.wirbelwind-gutau.at/event/eltern-kind-turnen-gruppe-2-17-18-uhr/
LOCATION:KuBus Gutau\, Pregartenerstraße 4\, Gutau\, Oberösterreich\, 4293\, Österreich
CATEGORIES:Bewegung und Sport,Herbstprogramm 2025
ATTACH;FMTTYPE=image/png:https://www.wirbelwind-gutau.at/wp-content/uploads/2024/12/Programm-Bilder-e1733608267138.png
ORGANIZER;CN="Eltern-Kind-Treff":MAILTO:wirbelwindgutau@hotmail.com
END:VEVENT
END:VCALENDAR