BEGIN:VCALENDAR
VERSION:2.0
PRODID:-//Wirbelwind Eltern-Kind-Treff Gutau - ECPv6.15.20//NONSGML v1.0//EN
CALSCALE:GREGORIAN
METHOD:PUBLISH
X-WR-CALNAME:Wirbelwind Eltern-Kind-Treff Gutau
X-ORIGINAL-URL:https://www.wirbelwind-gutau.at
X-WR-CALDESC:Veranstaltungen für Wirbelwind Eltern-Kind-Treff Gutau
REFRESH-INTERVAL;VALUE=DURATION:PT1H
X-Robots-Tag:noindex
X-PUBLISHED-TTL:PT1H
BEGIN:VTIMEZONE
TZID:Europe/Vienna
BEGIN:DAYLIGHT
TZOFFSETFROM:+0100
TZOFFSETTO:+0200
TZNAME:CEST
DTSTART:20240331T010000
END:DAYLIGHT
BEGIN:STANDARD
TZOFFSETFROM:+0200
TZOFFSETTO:+0100
TZNAME:CET
DTSTART:20241027T010000
END:STANDARD
BEGIN:DAYLIGHT
TZOFFSETFROM:+0100
TZOFFSETTO:+0200
TZNAME:CEST
DTSTART:20250330T010000
END:DAYLIGHT
BEGIN:STANDARD
TZOFFSETFROM:+0200
TZOFFSETTO:+0100
TZNAME:CET
DTSTART:20251026T010000
END:STANDARD
BEGIN:DAYLIGHT
TZOFFSETFROM:+0100
TZOFFSETTO:+0200
TZNAME:CEST
DTSTART:20260329T010000
END:DAYLIGHT
BEGIN:STANDARD
TZOFFSETFROM:+0200
TZOFFSETTO:+0100
TZNAME:CET
DTSTART:20261025T010000
END:STANDARD
END:VTIMEZONE
BEGIN:VEVENT
DTSTART;TZID=Europe/Vienna:20250630T190000
DTEND;TZID=Europe/Vienna:20250630T210000
DTSTAMP:20260424T020350
CREATED:20250613T114957Z
LAST-MODIFIED:20250613T115850Z
UID:3254-1751310000-1751317200@www.wirbelwind-gutau.at
SUMMARY:Infoabend “Aufklärung von Anfang an” - Montag\, 30. Juni 2025
DESCRIPTION:Über Sexualität zu sprechen\, fällt vielen Menschen sehr schwer. Unseren Kindern zuliebe sollten wir lernen\, wie man mit kindlicher Sexualität am besten umgeht und welche Antworten man den Kindern auf ihre Fragen geben kann. Der Workshop beinhaltet Themen wie Gefühle\, Doktorspiele\, Anatomie\, uvm. und soll aufzeigen\, wie leicht Sexualität sein kann\, wenn man über seinen Schatten springt. Kinder profitieren von dem Vertrauen und Wissen\, dass sie von ihren Eltern vermittelt bekommen\, auch im Bezug auf Missbrauchssituationen. \nTeilnehmerzahl: maximal 15 Personen pro Termin \nDatum & Uhrzeit: 2. Termin: Freitag\, 9. Mai 2025 | 19 Uhr\nLeitung: Julia Kaindlstorfer\, Dipl. Sozialpädagogin\, dipl. Sexualpädagogin\, dipl. Familienhelferin\nOrt: EKT Wirbelwind\nKosten: Normalpreis: 17 € | Mitgliedspreis: 15 € \nAnmeldung: Lisa Priemetshofer oder PN via Instagram Wirbelwind Gutau
URL:https://www.wirbelwind-gutau.at/event/infoabend-aufklaerung-von-anfang-an-montag-30-juni-2025/
LOCATION:Eltern Kind Treff Wirbelwind Gutau\, St. Oswalderstraße 2\, Gutau\, Oberösterreich\, 4293\, Österreich
CATEGORIES:Frühlingsprogramm 2025,Kurs/Workshop
ATTACH;FMTTYPE=image/png:https://www.wirbelwind-gutau.at/wp-content/uploads/2025/03/Programm-Bilder-10-e1741587785849.png
ORGANIZER;CN="Eltern-Kind-Treff":MAILTO:wirbelwindgutau@hotmail.com
END:VEVENT
END:VCALENDAR